BEGIN:VCALENDAR
VERSION:2.0
PRODID:-//Athletic Club Kenanais - ECPv5.12.2//NONSGML v1.0//EN
CALSCALE:GREGORIAN
METHOD:PUBLISH
X-WR-CALNAME:Athletic Club Kenanais
X-ORIGINAL-URL:https://www.ack22.net
X-WR-CALDESC:évènements pour Athletic Club Kenanais
BEGIN:VTIMEZONE
TZID:Europe/Helsinki
BEGIN:DAYLIGHT
TZOFFSETFROM:+0200
TZOFFSETTO:+0300
TZNAME:EEST
DTSTART:20190331T010000
END:DAYLIGHT
BEGIN:STANDARD
TZOFFSETFROM:+0300
TZOFFSETTO:+0200
TZNAME:EET
DTSTART:20191027T010000
END:STANDARD
END:VTIMEZONE
BEGIN:VEVENT
DTSTART;VALUE=DATE:20190525
DTEND;VALUE=DATE:20190526
DTSTAMP:20260424T093107
CREATED:20190504T140416Z
LAST-MODIFIED:20190504T140416Z
UID:3154-1558742400-1558828799@www.ack22.net
SUMMARY:Challenge Equip'athlé BE/MI
DESCRIPTION:Les modalités du déplacement seront communiqués ultérieurement.
URL:https://www.ack22.net/event/challenge-equipathle-be-mi/
LOCATION:Paimpol (Kerraoul)\, Avenue Gabriel Le Bras\, Paimpol\, 22500\, France
CATEGORIES:BE,MI
END:VEVENT
END:VCALENDAR