BEGIN:VCALENDAR
VERSION:2.0
PRODID:-//Athletic Club Kenanais - ECPv5.12.2//NONSGML v1.0//EN
CALSCALE:GREGORIAN
METHOD:PUBLISH
X-WR-CALNAME:Athletic Club Kenanais
X-ORIGINAL-URL:https://www.ack22.net
X-WR-CALDESC:évènements pour Athletic Club Kenanais
BEGIN:VTIMEZONE
TZID:Europe/Helsinki
BEGIN:DAYLIGHT
TZOFFSETFROM:+0200
TZOFFSETTO:+0300
TZNAME:EEST
DTSTART:20180325T010000
END:DAYLIGHT
BEGIN:STANDARD
TZOFFSETFROM:+0300
TZOFFSETTO:+0200
TZNAME:EET
DTSTART:20181028T010000
END:STANDARD
END:VTIMEZONE
BEGIN:VEVENT
DTSTART;TZID=Europe/Helsinki:20180922T133000
DTEND;TZID=Europe/Helsinki:20180922T173000
DTSTAMP:20260424T110502
CREATED:20180913T193643Z
LAST-MODIFIED:20180913T193643Z
UID:2893-1537623000-1537637400@www.ack22.net
SUMMARY:Championnats Départementaux Benjamin(e)s à Plumaugat
DESCRIPTION:Pour les informations détaillées du déroulement de la journée voir le site Web ci-dessous. \nLe déplacement se fera en covoiturage départ à 11h30 du stade de Saint Quay-Perros. \nRetour vers 19h30. \n 
URL:https://www.ack22.net/event/championnats-departementaux-benjamines-a-plumaugat/
LOCATION:Plumaugat\, Plumaugat\, France
END:VEVENT
END:VCALENDAR