BEGIN:VCALENDAR
VERSION:2.0
PRODID:-//Athletic Club Kenanais - ECPv5.12.2//NONSGML v1.0//EN
CALSCALE:GREGORIAN
METHOD:PUBLISH
X-WR-CALNAME:Athletic Club Kenanais
X-ORIGINAL-URL:https://www.ack22.net
X-WR-CALDESC:évènements pour Athletic Club Kenanais
BEGIN:VTIMEZONE
TZID:Europe/Helsinki
BEGIN:DAYLIGHT
TZOFFSETFROM:+0200
TZOFFSETTO:+0300
TZNAME:EEST
DTSTART:20170326T010000
END:DAYLIGHT
BEGIN:STANDARD
TZOFFSETFROM:+0300
TZOFFSETTO:+0200
TZNAME:EET
DTSTART:20171029T010000
END:STANDARD
END:VTIMEZONE
BEGIN:VEVENT
DTSTART;VALUE=DATE:20170527
DTEND;VALUE=DATE:20170529
DTSTAMP:20260424T142123
CREATED:20170315T143959Z
LAST-MODIFIED:20170517T152655Z
UID:1978-1495843200-1496015999@www.ack22.net
SUMMARY:Championnats départementaux
DESCRIPTION:Les championnats départementaux estivaux auront lieu les samedi 27 et dimanche 28 mai à Saint-Brieuc. Pour les horaires et le règlement\, voir le site du comité. \nAttention \n\nPour les benjamin-e-s : épreuves le samedi après-midi\nPour les minimes : marche et demi-fond le samedi\, le reste le dimanche\nPour les cadets et plus : épreuves réparties sur les deux jours\n\nVérifiez bien vos horaires !!! \nModalité de déplacement à voir en fonction des effectifs\, mais prévoir un co-voiturage pour celles et ceux qui peuvent (et qui veulent).
URL:https://www.ack22.net/event/championnats-departementaux/
LOCATION:Saint-Brieuc (stade Hélène Boucher)\, Stade Hélène Boucher\, Rue Pinot Duclos\, Saint-Bireuc\, 22000\, France
CATEGORIES:BE,CA+,MI
END:VEVENT
END:VCALENDAR