BEGIN:VCALENDAR
VERSION:2.0
PRODID:-//Athletic Club Kenanais - ECPv5.12.2//NONSGML v1.0//EN
CALSCALE:GREGORIAN
METHOD:PUBLISH
X-WR-CALNAME:Athletic Club Kenanais
X-ORIGINAL-URL:https://www.ack22.net
X-WR-CALDESC:évènements pour Athletic Club Kenanais
BEGIN:VTIMEZONE
TZID:Europe/Helsinki
BEGIN:DAYLIGHT
TZOFFSETFROM:+0200
TZOFFSETTO:+0300
TZNAME:EEST
DTSTART:20250330T010000
END:DAYLIGHT
BEGIN:STANDARD
TZOFFSETFROM:+0300
TZOFFSETTO:+0200
TZNAME:EET
DTSTART:20251026T010000
END:STANDARD
END:VTIMEZONE
BEGIN:VEVENT
DTSTART;TZID=Europe/Helsinki:20250905T170000
DTEND;TZID=Europe/Helsinki:20250905T203000
DTSTAMP:20260424T094115
CREATED:20250903T185626Z
LAST-MODIFIED:20250903T185927Z
UID:9973-1757091600-1757104200@www.ack22.net
SUMMARY:Forum des associations Perros-Guirec
DESCRIPTION:L’ACK sera présent au forum des associations de Perros-Guirec vendredi 5 septembre de 17h à 20h30 au complexe de Kerabram
URL:https://www.ack22.net/event/forum-des-associations-perros-guirec/
LOCATION:Perros\, Kerabram\, Perros-Guirec\, 22700\, France
END:VEVENT
END:VCALENDAR