BEGIN:VCALENDAR
VERSION:2.0
PRODID:-//Athletic Club Kenanais - ECPv5.12.2//NONSGML v1.0//EN
CALSCALE:GREGORIAN
METHOD:PUBLISH
X-WR-CALNAME:Athletic Club Kenanais
X-ORIGINAL-URL:https://www.ack22.net
X-WR-CALDESC:évènements pour Athletic Club Kenanais
BEGIN:VTIMEZONE
TZID:Europe/Helsinki
BEGIN:DAYLIGHT
TZOFFSETFROM:+0200
TZOFFSETTO:+0300
TZNAME:EEST
DTSTART:20250330T010000
END:DAYLIGHT
BEGIN:STANDARD
TZOFFSETFROM:+0300
TZOFFSETTO:+0200
TZNAME:EET
DTSTART:20251026T010000
END:STANDARD
END:VTIMEZONE
BEGIN:VEVENT
DTSTART;TZID=Europe/Helsinki:20250906T140000
DTEND;TZID=Europe/Helsinki:20250906T170000
DTSTAMP:20260424T094345
CREATED:20250903T185902Z
LAST-MODIFIED:20250903T185902Z
UID:9975-1757167200-1757178000@www.ack22.net
SUMMARY:Forum des associations Saint-Quay Perros
DESCRIPTION:L’ACK sera présent au forum des associations de Saint-Quay samedi 6 septembre de 14h à 17h à la salle Yves Guegan
URL:https://www.ack22.net/event/forum-des-associations-saint-quay-perros/
LOCATION:Saint-Quay-Perros (salle polyvalente)\, 3 rue de l'église\, Saint-Quay-Perros\, 22700
END:VEVENT
END:VCALENDAR