BEGIN:VCALENDAR
VERSION:2.0
PRODID:-//Athletic Club Kenanais - ECPv5.12.2//NONSGML v1.0//EN
CALSCALE:GREGORIAN
METHOD:PUBLISH
X-WR-CALNAME:Athletic Club Kenanais
X-ORIGINAL-URL:https://www.ack22.net
X-WR-CALDESC:évènements pour Athletic Club Kenanais
BEGIN:VTIMEZONE
TZID:Europe/Helsinki
BEGIN:DAYLIGHT
TZOFFSETFROM:+0200
TZOFFSETTO:+0300
TZNAME:EEST
DTSTART:20170326T010000
END:DAYLIGHT
BEGIN:STANDARD
TZOFFSETFROM:+0300
TZOFFSETTO:+0200
TZNAME:EET
DTSTART:20171029T010000
END:STANDARD
END:VTIMEZONE
BEGIN:VEVENT
DTSTART;VALUE=DATE:20170624
DTEND;VALUE=DATE:20170625
DTSTAMP:20260421T134808
CREATED:20170315T154734Z
LAST-MODIFIED:20170315T154734Z
UID:1990-1498262400-1498348799@www.ack22.net
SUMMARY:Régionaux MI
DESCRIPTION:
URL:https://www.ack22.net/event/regionaux-mi/
LOCATION:Saint-Brieuc (stade Hélène Boucher)\, Stade Hélène Boucher\, Rue Pinot Duclos\, Saint-Bireuc\, 22000\, France
CATEGORIES:MI
END:VEVENT
END:VCALENDAR