BEGIN:VCALENDAR
VERSION:2.0
PRODID:-//Athletic Club Kenanais - ECPv5.12.2//NONSGML v1.0//EN
CALSCALE:GREGORIAN
METHOD:PUBLISH
X-WR-CALNAME:Athletic Club Kenanais
X-ORIGINAL-URL:https://www.ack22.net
X-WR-CALDESC:évènements pour Athletic Club Kenanais
BEGIN:VTIMEZONE
TZID:Europe/Helsinki
BEGIN:DAYLIGHT
TZOFFSETFROM:+0200
TZOFFSETTO:+0300
TZNAME:EEST
DTSTART:20190331T010000
END:DAYLIGHT
BEGIN:STANDARD
TZOFFSETFROM:+0300
TZOFFSETTO:+0200
TZNAME:EET
DTSTART:20191027T010000
END:STANDARD
END:VTIMEZONE
BEGIN:VEVENT
DTSTART;TZID=Europe/Helsinki:20190317T100000
DTEND;TZID=Europe/Helsinki:20190519T170000
DTSTAMP:20260424T094848
CREATED:20181208T173517Z
LAST-MODIFIED:20181208T173517Z
UID:2970-1552816800-1558285200@www.ack22.net
SUMMARY:Rencontre Départementale PO
DESCRIPTION:
URL:https://www.ack22.net/event/rencontre-departementale-po/
LOCATION:Merdrignac – Site du Val de Landrouët\, 14 rue gouède\, Merdrignac\, 22230
CATEGORIES:Compétitions,PO
END:VEVENT
END:VCALENDAR