BEGIN:VCALENDAR
VERSION:2.0
PRODID:-//Athletic Club Kenanais - ECPv5.12.2//NONSGML v1.0//EN
CALSCALE:GREGORIAN
METHOD:PUBLISH
X-WR-CALNAME:Athletic Club Kenanais
X-ORIGINAL-URL:https://www.ack22.net
X-WR-CALDESC:évènements pour Athletic Club Kenanais
BEGIN:VTIMEZONE
TZID:Europe/Helsinki
BEGIN:DAYLIGHT
TZOFFSETFROM:+0200
TZOFFSETTO:+0300
TZNAME:EEST
DTSTART:20170326T010000
END:DAYLIGHT
BEGIN:STANDARD
TZOFFSETFROM:+0300
TZOFFSETTO:+0200
TZNAME:EET
DTSTART:20171029T010000
END:STANDARD
END:VTIMEZONE
BEGIN:VEVENT
DTSTART;VALUE=DATE:20170603
DTEND;VALUE=DATE:20170604
DTSTAMP:20260424T143510
CREATED:20170315T144041Z
LAST-MODIFIED:20170530T155609Z
UID:1980-1496448000-1496534399@www.ack22.net
SUMMARY:Triathlon BE/MI
DESCRIPTION:La compétition triathlon benjamins et minimes aura lieu le samedi 3 juin à Paimpol. \nHoraires \nPrévoir un co-voiturage au départ de Saint-Quay-Perros (horaires à préciser).
URL:https://www.ack22.net/event/triathlon-bemi/
LOCATION:Paimpol (Kerraoul)\, Avenue Gabriel Le Bras\, Paimpol\, 22500\, France
CATEGORIES:BE,MI
END:VEVENT
END:VCALENDAR